Package: RnaSeqSampleSize Version: 2.17.0 Command: E:\biocbuild\bbs-3.21-bioc\R\bin\R.exe CMD INSTALL RnaSeqSampleSize StartedAt: 2025-01-31 16:52:46 -0500 (Fri, 31 Jan 2025) EndedAt: 2025-01-31 16:54:37 -0500 (Fri, 31 Jan 2025) EllapsedTime: 111.2 seconds RetCode: 0 Status: OK