Package: RnaSeqSampleSize Version: 2.17.0 Command: E:\biocbuild\bbs-3.21-bioc\R\bin\R.exe CMD check --no-multiarch --install=check:RnaSeqSampleSize.install-out.txt --library=E:\biocbuild\bbs-3.21-bioc\R\library --no-vignettes --timings RnaSeqSampleSize_2.17.0.tar.gz StartedAt: 2025-02-01 04:28:17 -0500 (Sat, 01 Feb 2025) EndedAt: 2025-02-01 04:35:18 -0500 (Sat, 01 Feb 2025) EllapsedTime: 420.9 seconds RetCode: 0 Status: OK CheckDir: RnaSeqSampleSize.Rcheck Warnings: 0