Package: RnaSeqSampleSize Version: 2.17.0 Command: chmod a+r RnaSeqSampleSize -R && E:\biocbuild\bbs-3.21-bioc\R\bin\R.exe CMD build --keep-empty-dirs --no-resave-data RnaSeqSampleSize StartedAt: 2025-01-31 21:02:34 -0500 (Fri, 31 Jan 2025) EndedAt: 2025-01-31 21:04:57 -0500 (Fri, 31 Jan 2025) EllapsedTime: 143.5 seconds RetCode: 0 Status: OK PackageFile: RnaSeqSampleSize_2.17.0.tar.gz PackageFileSize: 235.2 KiB