Package: RnaSeqSampleSize Version: 2.17.0 Command: rm -rf RnaSeqSampleSize.buildbin-libdir && mkdir RnaSeqSampleSize.buildbin-libdir && E:\biocbuild\bbs-3.21-bioc\R\bin\R.exe CMD INSTALL --build --library=RnaSeqSampleSize.buildbin-libdir RnaSeqSampleSize_2.17.0.tar.gz StartedAt: 2025-02-01 08:05:36 -0500 (Sat, 01 Feb 2025) EndedAt: 2025-02-01 08:07:11 -0500 (Sat, 01 Feb 2025) EllapsedTime: 94.9 seconds RetCode: 0 Status: OK PackageFile: RnaSeqSampleSize_2.17.0.zip PackageFileSize: 643.9 KiB