Package: RnaSeqSampleSize Version: 2.17.0 Command: /Library/Frameworks/R.framework/Resources/bin/R CMD build --keep-empty-dirs --no-resave-data RnaSeqSampleSize StartedAt: 2025-01-31 17:27:39 -0500 (Fri, 31 Jan 2025) EndedAt: 2025-01-31 17:28:27 -0500 (Fri, 31 Jan 2025) EllapsedTime: 48.5 seconds RetCode: 0 Status: OK PackageFile: RnaSeqSampleSize_2.17.0.tar.gz PackageFileSize: 234.8 KiB