Package: Rmagpie Version: 1.63.0 Command: /Library/Frameworks/R.framework/Resources/bin/R CMD check --install=check:Rmagpie.install-out.txt --library=/Library/Frameworks/R.framework/Resources/library --no-vignettes --timings Rmagpie_1.63.0.tar.gz StartedAt: 2025-01-31 22:38:51 -0500 (Fri, 31 Jan 2025) EndedAt: 2025-01-31 22:40:18 -0500 (Fri, 31 Jan 2025) EllapsedTime: 86.2 seconds RetCode: 0 Status: OK CheckDir: Rmagpie.Rcheck Warnings: 0