Package: Rmagpie Version: 1.63.0 Command: /Library/Frameworks/R.framework/Resources/bin/R CMD build --keep-empty-dirs --no-resave-data Rmagpie StartedAt: 2025-01-31 18:01:14 -0500 (Fri, 31 Jan 2025) EndedAt: 2025-01-31 18:01:55 -0500 (Fri, 31 Jan 2025) EllapsedTime: 41.2 seconds RetCode: 0 Status: OK PackageFile: Rmagpie_1.63.0.tar.gz PackageFileSize: 464.6 KiB