Package: Rmagpie Version: 1.63.0 Command: /home/biocbuild/R/R/bin/R CMD build --keep-empty-dirs --no-resave-data Rmagpie StartedAt: 2025-01-29 01:44:43 -0000 (Wed, 29 Jan 2025) EndedAt: 2025-01-29 01:45:30 -0000 (Wed, 29 Jan 2025) EllapsedTime: 46.0 seconds RetCode: 0 Status: OK PackageFile: Rmagpie_1.63.0.tar.gz PackageFileSize: 465.1 KiB