Package: Rhdf5lib Version: 1.29.0 Command: E:\biocbuild\bbs-3.21-bioc\R\bin\R.exe CMD INSTALL Rhdf5lib StartedAt: 2025-01-31 15:18:43 -0500 (Fri, 31 Jan 2025) EndedAt: 2025-01-31 15:19:23 -0500 (Fri, 31 Jan 2025) EllapsedTime: 39.7 seconds RetCode: 0 Status: OK