Package: Rfastp Version: 1.17.0 Command: chmod a+r Rfastp -R && E:\biocbuild\bbs-3.21-bioc\R\bin\R.exe CMD build --keep-empty-dirs --no-resave-data Rfastp StartedAt: 2025-01-31 20:57:16 -0500 (Fri, 31 Jan 2025) EndedAt: 2025-01-31 20:59:19 -0500 (Fri, 31 Jan 2025) EllapsedTime: 122.9 seconds RetCode: 0 Status: OK PackageFile: Rfastp_1.17.0.tar.gz PackageFileSize: 2.421 MiB