Package: RepViz Version: 1.23.0 Command: /home/biocbuild/bbs-3.21-bioc/R/bin/R CMD build --keep-empty-dirs --no-resave-data RepViz StartedAt: 2025-01-31 18:55:49 -0500 (Fri, 31 Jan 2025) EndedAt: 2025-01-31 18:56:23 -0500 (Fri, 31 Jan 2025) EllapsedTime: 34.1 seconds RetCode: 0 Status: OK PackageFile: RepViz_1.23.0.tar.gz PackageFileSize: 257.4 KiB