Package: RepViz Version: 1.23.0 Command: /home/biocbuild/R/R/bin/R CMD build --keep-empty-dirs --no-resave-data RepViz StartedAt: 2025-01-29 01:38:05 -0000 (Wed, 29 Jan 2025) EndedAt: 2025-01-29 01:38:40 -0000 (Wed, 29 Jan 2025) EllapsedTime: 35.0 seconds RetCode: 1 Status: ERROR PackageFile: None PackageFileSize: NA