Package: RegionalST Version: 1.5.8 Command: E:\biocbuild\bbs-3.21-bioc\R\bin\R.exe CMD INSTALL RegionalST StartedAt: 2025-01-31 16:56:56 -0500 (Fri, 31 Jan 2025) EndedAt: 2025-01-31 16:57:21 -0500 (Fri, 31 Jan 2025) EllapsedTime: 25.0 seconds RetCode: 0 Status: OK