Package: RegionalST Version: 1.5.8 Command: chmod a+r RegionalST -R && E:\biocbuild\bbs-3.21-bioc\R\bin\R.exe CMD build --keep-empty-dirs --no-resave-data RegionalST StartedAt: 2025-01-31 20:54:51 -0500 (Fri, 31 Jan 2025) EndedAt: 2025-01-31 20:59:25 -0500 (Fri, 31 Jan 2025) EllapsedTime: 274.0 seconds RetCode: 0 Status: OK PackageFile: RegionalST_1.5.8.tar.gz PackageFileSize: 2.393 MiB