Package: RegionalST Version: 1.5.8 Command: /home/biocbuild/bbs-3.21-bioc/R/bin/R CMD INSTALL RegionalST StartedAt: 2025-01-31 16:03:14 -0500 (Fri, 31 Jan 2025) EndedAt: 2025-01-31 16:03:40 -0500 (Fri, 31 Jan 2025) EllapsedTime: 25.6 seconds RetCode: 0 Status: OK