Package: RegionalST Version: 1.5.8 Command: /home/biocbuild/bbs-3.21-bioc/R/bin/R CMD build --keep-empty-dirs --no-resave-data RegionalST StartedAt: 2025-01-31 18:54:34 -0500 (Fri, 31 Jan 2025) EndedAt: 2025-01-31 18:56:14 -0500 (Fri, 31 Jan 2025) EllapsedTime: 99.1 seconds RetCode: 0 Status: OK PackageFile: RegionalST_1.5.8.tar.gz PackageFileSize: 4.192 MiB