Package: RegEnrich Version: 1.17.0 Command: rm -rf RegEnrich.buildbin-libdir && mkdir RegEnrich.buildbin-libdir && /Users/biocbuild/BBS/utils/build-universal.sh RegEnrich_1.17.0.tar.gz /Library/Frameworks/R.framework/Resources/bin/R RegEnrich.buildbin-libdir StartedAt: 2025-02-01 00:34:25 -0500 (Sat, 01 Feb 2025) EndedAt: 2025-02-01 00:35:15 -0500 (Sat, 01 Feb 2025) EllapsedTime: 50.8 seconds RetCode: 0 Status: OK PackageFile: RegEnrich_1.17.0.tgz PackageFileSize: 1.589 MiB