Package: Rdisop Version: 1.67.5 Command: /home/biocbuild/R/R/bin/R CMD build --keep-empty-dirs --no-resave-data Rdisop StartedAt: 2025-01-29 01:34:10 -0000 (Wed, 29 Jan 2025) EndedAt: 2025-01-29 01:35:05 -0000 (Wed, 29 Jan 2025) EllapsedTime: 55.0 seconds RetCode: 0 Status: OK PackageFile: Rdisop_1.67.5.tar.gz PackageFileSize: 707.7 KiB