Package: Rcwl Version: 1.23.0 Command: /home/biocbuild/bbs-3.21-bioc/R/bin/R CMD check --install=check:Rcwl.install-out.txt --library=/home/biocbuild/bbs-3.21-bioc/R/site-library --timings Rcwl_1.23.0.tar.gz StartedAt: 2025-02-01 01:38:51 -0500 (Sat, 01 Feb 2025) EndedAt: 2025-02-01 01:40:36 -0500 (Sat, 01 Feb 2025) EllapsedTime: 105.3 seconds RetCode: 0 Status: OK CheckDir: Rcwl.Rcheck Warnings: 0