Package: Rcpi Version: 1.43.0 Command: /Library/Frameworks/R.framework/Resources/bin/R CMD INSTALL Rcpi StartedAt: 2025-01-31 15:20:01 -0500 (Fri, 31 Jan 2025) EndedAt: 2025-01-31 15:20:22 -0500 (Fri, 31 Jan 2025) EllapsedTime: 21.0 seconds RetCode: 0 Status: OK