Package: Rcpi Version: 1.43.0 Command: /Library/Frameworks/R.framework/Resources/bin/R CMD build --keep-empty-dirs --no-resave-data Rcpi StartedAt: 2025-01-31 17:56:38 -0500 (Fri, 31 Jan 2025) EndedAt: 2025-01-31 17:57:08 -0500 (Fri, 31 Jan 2025) EllapsedTime: 29.7 seconds RetCode: 0 Status: OK PackageFile: Rcpi_1.43.0.tar.gz PackageFileSize: 2.97 MiB