Package: Rcollectl Version: 1.7.0 Command: /home/biocbuild/bbs-3.21-bioc/R/bin/R CMD check --install=check:Rcollectl.install-out.txt --library=/home/biocbuild/bbs-3.21-bioc/R/site-library --timings Rcollectl_1.7.0.tar.gz StartedAt: 2025-02-03 01:35:16 -0500 (Mon, 03 Feb 2025) EndedAt: 2025-02-03 01:36:56 -0500 (Mon, 03 Feb 2025) EllapsedTime: 100.2 seconds RetCode: 0 Status: OK CheckDir: Rcollectl.Rcheck Warnings: 0