Package: Rcollectl Version: 1.7.0 Command: /home/biocbuild/bbs-3.21-bioc/R/bin/R CMD build --keep-empty-dirs --no-resave-data Rcollectl StartedAt: 2025-02-02 18:45:54 -0500 (Sun, 02 Feb 2025) EndedAt: 2025-02-02 18:46:16 -0500 (Sun, 02 Feb 2025) EllapsedTime: 22.0 seconds RetCode: 0 Status: OK PackageFile: Rcollectl_1.7.0.tar.gz PackageFileSize: 548.1 KiB