Package: Rbowtie2 Version: 2.13.3 Command: /Library/Frameworks/R.framework/Resources/bin/R CMD INSTALL Rbowtie2 StartedAt: 2025-01-31 15:20:15 -0500 (Fri, 31 Jan 2025) EndedAt: 2025-01-31 15:24:20 -0500 (Fri, 31 Jan 2025) EllapsedTime: 244.7 seconds RetCode: 0 Status: OK