Package: Rbowtie2 Version: 2.13.3 Command: /Library/Frameworks/R.framework/Resources/bin/R CMD build --keep-empty-dirs --no-resave-data Rbowtie2 StartedAt: 2025-01-31 17:56:02 -0500 (Fri, 31 Jan 2025) EndedAt: 2025-01-31 17:59:30 -0500 (Fri, 31 Jan 2025) EllapsedTime: 207.8 seconds RetCode: 0 Status: OK PackageFile: Rbowtie2_2.13.3.tar.gz PackageFileSize: 1.711 MiB