Package: Rbowtie2 Version: 2.13.3 Command: rm -rf Rbowtie2.buildbin-libdir && mkdir Rbowtie2.buildbin-libdir && /Users/biocbuild/BBS/utils/build-universal.sh Rbowtie2_2.13.3.tar.gz /Library/Frameworks/R.framework/Resources/bin/R Rbowtie2.buildbin-libdir StartedAt: 2025-02-01 00:33:50 -0500 (Sat, 01 Feb 2025) EndedAt: 2025-02-01 00:38:09 -0500 (Sat, 01 Feb 2025) EllapsedTime: 259.4 seconds RetCode: 0 Status: OK PackageFile: Rbowtie2_2.13.3.tgz PackageFileSize: 2.032 MiB