Package: RareVariantVis Version: 2.35.0 Command: /Library/Frameworks/R.framework/Resources/bin/R CMD build --keep-empty-dirs --no-resave-data RareVariantVis StartedAt: 2025-01-31 17:55:23 -0500 (Fri, 31 Jan 2025) EndedAt: 2025-01-31 17:56:17 -0500 (Fri, 31 Jan 2025) EllapsedTime: 53.6 seconds RetCode: 0 Status: OK PackageFile: RareVariantVis_2.35.0.tar.gz PackageFileSize: 2.756 MiB