Package: RaggedExperiment Version: 1.31.1 Command: /Library/Frameworks/R.framework/Resources/bin/R CMD INSTALL RaggedExperiment StartedAt: 2025-01-31 15:04:58 -0500 (Fri, 31 Jan 2025) EndedAt: 2025-01-31 15:05:07 -0500 (Fri, 31 Jan 2025) EllapsedTime: 9.5 seconds RetCode: 0 Status: OK