Package: RadioGx Version: 2.11.0 Command: E:\biocbuild\bbs-3.21-bioc\R\bin\R.exe CMD check --no-multiarch --install=check:RadioGx.install-out.txt --library=E:\biocbuild\bbs-3.21-bioc\R\library --no-vignettes --timings RadioGx_2.11.0.tar.gz StartedAt: 2025-02-03 04:16:07 -0500 (Mon, 03 Feb 2025) EndedAt: 2025-02-03 04:21:03 -0500 (Mon, 03 Feb 2025) EllapsedTime: 295.9 seconds RetCode: 0 Status: OK CheckDir: RadioGx.Rcheck Warnings: 0