Package: RUVnormalize Version: 1.41.0 Command: /home/biocbuild/R/R/bin/R CMD build --keep-empty-dirs --no-resave-data RUVnormalize StartedAt: 2025-01-29 01:55:01 -0000 (Wed, 29 Jan 2025) EndedAt: 2025-01-29 01:55:20 -0000 (Wed, 29 Jan 2025) EllapsedTime: 19.0 seconds RetCode: 0 Status: OK PackageFile: RUVnormalize_1.41.0.tar.gz PackageFileSize: 190.5 KiB