Package: RUVnormalize Version: 1.41.0 Command: /Library/Frameworks/R.framework/Resources/bin/R CMD INSTALL RUVnormalize StartedAt: 2025-01-31 15:01:40 -0500 (Fri, 31 Jan 2025) EndedAt: 2025-01-31 15:01:44 -0500 (Fri, 31 Jan 2025) EllapsedTime: 4.5 seconds RetCode: 0 Status: OK