Package: RUVnormalize Version: 1.41.0 Command: /Library/Frameworks/R.framework/Resources/bin/R CMD build --keep-empty-dirs --no-resave-data RUVnormalize StartedAt: 2025-01-31 17:29:37 -0500 (Fri, 31 Jan 2025) EndedAt: 2025-01-31 17:29:46 -0500 (Fri, 31 Jan 2025) EllapsedTime: 9.1 seconds RetCode: 0 Status: OK PackageFile: RUVnormalize_1.41.0.tar.gz PackageFileSize: 190.7 KiB