Package: RUVnormalize Version: 1.41.0 Command: rm -rf RUVnormalize.buildbin-libdir && mkdir RUVnormalize.buildbin-libdir && /Users/biocbuild/BBS/utils/build-universal.sh RUVnormalize_1.41.0.tar.gz /Library/Frameworks/R.framework/Resources/bin/R RUVnormalize.buildbin-libdir StartedAt: 2025-01-31 22:30:49 -0500 (Fri, 31 Jan 2025) EndedAt: 2025-01-31 22:30:51 -0500 (Fri, 31 Jan 2025) EllapsedTime: 2.0 seconds RetCode: 0 Status: OK PackageFile: RUVnormalize_1.41.0.tgz PackageFileSize: 222 KiB