Package: RTNduals Version: 1.31.0 Command: E:\biocbuild\bbs-3.21-bioc\R\bin\R.exe CMD INSTALL RTNduals StartedAt: 2025-01-31 16:47:09 -0500 (Fri, 31 Jan 2025) EndedAt: 2025-01-31 16:47:49 -0500 (Fri, 31 Jan 2025) EllapsedTime: 40.1 seconds RetCode: 0 Status: OK