Package: RTNduals Version: 1.31.0 Command: chmod a+r RTNduals -R && E:\biocbuild\bbs-3.21-bioc\R\bin\R.exe CMD build --keep-empty-dirs --no-resave-data RTNduals StartedAt: 2025-01-31 21:06:31 -0500 (Fri, 31 Jan 2025) EndedAt: 2025-01-31 21:08:17 -0500 (Fri, 31 Jan 2025) EllapsedTime: 106.3 seconds RetCode: 0 Status: OK PackageFile: RTNduals_1.31.0.tar.gz PackageFileSize: 584.5 KiB