Package: RTNduals Version: 1.31.0 Command: rm -rf RTNduals.buildbin-libdir && mkdir RTNduals.buildbin-libdir && E:\biocbuild\bbs-3.21-bioc\R\bin\R.exe CMD INSTALL --build --library=RTNduals.buildbin-libdir RTNduals_1.31.0.tar.gz StartedAt: 2025-02-01 08:07:10 -0500 (Sat, 01 Feb 2025) EndedAt: 2025-02-01 08:08:03 -0500 (Sat, 01 Feb 2025) EllapsedTime: 53.6 seconds RetCode: 0 Status: OK PackageFile: RTNduals_1.31.0.zip PackageFileSize: 743.3 KiB