Package: RTNduals Version: 1.31.0 Command: /home/biocbuild/R/R/bin/R CMD build --keep-empty-dirs --no-resave-data RTNduals StartedAt: 2025-01-29 01:53:23 -0000 (Wed, 29 Jan 2025) EndedAt: 2025-01-29 01:56:17 -0000 (Wed, 29 Jan 2025) EllapsedTime: 174.1 seconds RetCode: 0 Status: OK PackageFile: RTNduals_1.31.0.tar.gz PackageFileSize: 610.4 KiB