Package: RTN Version: 2.31.0 Command: /Library/Frameworks/R.framework/Resources/bin/R CMD check --install=check:RTN.install-out.txt --library=/Library/Frameworks/R.framework/Resources/library --no-vignettes --timings RTN_2.31.0.tar.gz StartedAt: 2025-01-31 22:46:24 -0500 (Fri, 31 Jan 2025) EndedAt: 2025-01-31 22:50:54 -0500 (Fri, 31 Jan 2025) EllapsedTime: 270.2 seconds RetCode: 0 Status: OK CheckDir: RTN.Rcheck Warnings: 0