Package: RRHO Version: 1.47.0 Command: E:\biocbuild\bbs-3.21-bioc\R\bin\R.exe CMD INSTALL RRHO StartedAt: 2025-01-31 15:32:38 -0500 (Fri, 31 Jan 2025) EndedAt: 2025-01-31 15:32:46 -0500 (Fri, 31 Jan 2025) EllapsedTime: 8.5 seconds RetCode: 0 Status: OK