Package: RRHO Version: 1.47.0 Command: /Library/Frameworks/R.framework/Resources/bin/R CMD INSTALL RRHO StartedAt: 2025-01-31 15:18:12 -0500 (Fri, 31 Jan 2025) EndedAt: 2025-01-31 15:18:26 -0500 (Fri, 31 Jan 2025) EllapsedTime: 14.4 seconds RetCode: 0 Status: OK