Package: ROntoTools Version: 2.35.0 Command: /home/biocbuild/bbs-3.21-bioc/R/bin/R CMD INSTALL ROntoTools StartedAt: 2025-01-31 15:15:05 -0500 (Fri, 31 Jan 2025) EndedAt: 2025-01-31 15:15:17 -0500 (Fri, 31 Jan 2025) EllapsedTime: 11.7 seconds RetCode: 0 Status: OK