Package: ROntoTools Version: 2.35.0 Command: /home/biocbuild/bbs-3.21-bioc/R/bin/R CMD build --keep-empty-dirs --no-resave-data ROntoTools StartedAt: 2025-01-31 19:02:04 -0500 (Fri, 31 Jan 2025) EndedAt: 2025-01-31 19:02:45 -0500 (Fri, 31 Jan 2025) EllapsedTime: 41.1 seconds RetCode: 0 Status: OK PackageFile: ROntoTools_2.35.0.tar.gz PackageFileSize: 1.487 MiB