Package: ROSeq Version: 1.19.0 Command: /home/biocbuild/bbs-3.21-bioc/R/bin/R CMD build --keep-empty-dirs --no-resave-data ROSeq StartedAt: 2025-01-31 19:02:15 -0500 (Fri, 31 Jan 2025) EndedAt: 2025-01-31 19:06:02 -0500 (Fri, 31 Jan 2025) EllapsedTime: 226.4 seconds RetCode: 0 Status: OK PackageFile: ROSeq_1.19.0.tar.gz PackageFileSize: 4.19 MiB