Package: RNAsense Version: 1.21.0 Command: E:\biocbuild\bbs-3.21-bioc\R\bin\R.exe CMD check --no-multiarch --install=check:RNAsense.install-out.txt --library=E:\biocbuild\bbs-3.21-bioc\R\library --no-vignettes --timings RNAsense_1.21.0.tar.gz StartedAt: 2025-02-01 04:26:36 -0500 (Sat, 01 Feb 2025) EndedAt: 2025-02-01 04:42:45 -0500 (Sat, 01 Feb 2025) EllapsedTime: 969.5 seconds RetCode: 0 Status: WARNINGS CheckDir: RNAsense.Rcheck Warnings: 1