Package: RNAsense Version: 1.21.0 Command: rm -rf RNAsense.buildbin-libdir && mkdir RNAsense.buildbin-libdir && E:\biocbuild\bbs-3.21-bioc\R\bin\R.exe CMD INSTALL --build --library=RNAsense.buildbin-libdir RNAsense_1.21.0.tar.gz StartedAt: 2025-02-01 08:05:18 -0500 (Sat, 01 Feb 2025) EndedAt: 2025-02-01 08:05:44 -0500 (Sat, 01 Feb 2025) EllapsedTime: 26.7 seconds RetCode: 0 Status: OK PackageFile: RNAsense_1.21.0.zip PackageFileSize: 877.7 KiB