Package: RNAmodR.RiboMethSeq Version: 1.21.0 Command: rm -rf RNAmodR.RiboMethSeq.buildbin-libdir && mkdir RNAmodR.RiboMethSeq.buildbin-libdir && /Users/biocbuild/BBS/utils/build-universal.sh RNAmodR.RiboMethSeq_1.21.0.tar.gz /Library/Frameworks/R.framework/Resources/bin/R RNAmodR.RiboMethSeq.buildbin-libdir StartedAt: 2025-02-01 00:35:42 -0500 (Sat, 01 Feb 2025) EndedAt: 2025-02-01 00:36:55 -0500 (Sat, 01 Feb 2025) EllapsedTime: 73.7 seconds RetCode: 0 Status: OK PackageFile: RNAmodR.RiboMethSeq_1.21.0.tgz PackageFileSize: 720.5 KiB