Package: RNAmodR.RiboMethSeq Version: 1.21.0 Command: /Library/Frameworks/R.framework/Resources/bin/R CMD INSTALL RNAmodR.RiboMethSeq StartedAt: 2025-01-31 15:17:52 -0500 (Fri, 31 Jan 2025) EndedAt: 2025-01-31 15:18:14 -0500 (Fri, 31 Jan 2025) EllapsedTime: 21.7 seconds RetCode: 0 Status: OK