Package: RNAdecay Version: 1.27.0 Command: /home/biocbuild/bbs-3.21-bioc/R/bin/R CMD INSTALL RNAdecay StartedAt: 2025-01-31 15:14:42 -0500 (Fri, 31 Jan 2025) EndedAt: 2025-01-31 15:22:13 -0500 (Fri, 31 Jan 2025) EllapsedTime: 450.5 seconds RetCode: 0 Status: OK