Package: RGSEA Version: 1.41.0 Command: /home/biocbuild/bbs-3.21-bioc/R/bin/R CMD INSTALL RGSEA StartedAt: 2025-01-31 15:09:13 -0500 (Fri, 31 Jan 2025) EndedAt: 2025-01-31 15:09:28 -0500 (Fri, 31 Jan 2025) EllapsedTime: 14.3 seconds RetCode: 0 Status: OK