Package: REDseq Version: 1.53.0 Command: /Library/Frameworks/R.framework/Resources/bin/R CMD build --keep-empty-dirs --no-resave-data REDseq StartedAt: 2025-01-31 17:23:28 -0500 (Fri, 31 Jan 2025) EndedAt: 2025-01-31 17:23:57 -0500 (Fri, 31 Jan 2025) EllapsedTime: 29.3 seconds RetCode: 0 Status: OK PackageFile: REDseq_1.53.0.tar.gz PackageFileSize: 361.1 KiB